BEGIN:VCALENDAR
VERSION:2.0
PRODID:-//Bio-Rad//One-Time Event//EN
CALSCALE:GREGORIAN
BEGIN:VTIMEZONE
TZID:America/New_York
BEGIN:DAYLIGHT
DTSTART:20260308T020000
TZOFFSETFROM:-0500
TZOFFSETTO:-0400
TZNAME:EDT
END:DAYLIGHT
BEGIN:STANDARD
DTSTART:20251102T020000
TZOFFSETFROM:-0400
TZOFFSETTO:-0500
TZNAME:EST
END:STANDARD
END:VTIMEZONE
BEGIN:VEVENT
UID:aphl2026-annual@bio-rad.com
DTSTAMP:20260421T223209Z
DTSTART;TZID=America/New_York:20260505T080000
DTEND;TZID=America/New_York:20260505T083000
SUMMARY:APHL 2026 Annual Conference
LOCATION:Baltimore Convention Center, 1 West Pratt St., Baltimore, MD 21201
DESCRIPTION:APHL 2026 Annual Conference
Tuesday, May 5, 2026 | 8:00–8:30 AM ET
More information: https://aphl.org/
URL:https://aphl.org/
END:VEVENT
END:VCALENDAR
